BEGIN:VCALENDAR
VERSION:2.0
PRODID:-//Plone.org//NONSGML plone.app.event//EN
X-WR-TIMEZONE:Europe/Rome
BEGIN:VEVENT
SUMMARY:Seminario di alti Studi Paolo Prodi  1517. Le università e la Rif
 orma
DTSTART;TZID=Europe/Rome;VALUE=DATE-TIME:20170504T143000
DTEND;TZID=Europe/Rome;VALUE=DATE-TIME:20170505T190000
DTSTAMP;VALUE=DATE-TIME:20260420T125521Z
UID:b24c45ebe78c4d53b1b6c837b5ab8bd0@disci.unibo.it
CREATED;VALUE=DATE-TIME:20170418T060144Z
LAST-MODIFIED;VALUE=DATE-TIME:20170418T074518Z
URL:https://disci.unibo.it/it/eventi/1517.-le-universita-e-la-riforma
END:VEVENT
BEGIN:VTIMEZONE
TZID:Europe/Rome
X-LIC-LOCATION:Europe/Rome
BEGIN:DAYLIGHT
DTSTART;VALUE=DATE-TIME:20170326T030000
TZNAME:CEST
TZOFFSETFROM:+0100
TZOFFSETTO:+0200
END:DAYLIGHT
END:VTIMEZONE
END:VCALENDAR
