BEGIN:VCALENDAR
VERSION:2.0
PRODID:-//Plone.org//NONSGML plone.app.event//EN
X-WR-TIMEZONE:Europe/Rome
BEGIN:VEVENT
SUMMARY:Abitare ad Aquileia: la domus dei Putti danzanti
DTSTART;TZID=Europe/Rome;VALUE=DATE-TIME:20170223T150000
DTEND;TZID=Europe/Rome;VALUE=DATE-TIME:20170223T170000
DTSTAMP;VALUE=DATE-TIME:20260422T204528Z
UID:e580fcc2de3b4187b103d7e06980755f@disci.unibo.it
CREATED;VALUE=DATE-TIME:20170220T101916Z
DESCRIPTION:Seminario
LAST-MODIFIED;VALUE=DATE-TIME:20210130T012223Z
URL:https://disci.unibo.it/it/eventi/abitare-ad-aquileia-la-domus-dei-putt
 i-danzanti
END:VEVENT
BEGIN:VTIMEZONE
TZID:Europe/Rome
X-LIC-LOCATION:Europe/Rome
BEGIN:STANDARD
DTSTART;VALUE=DATE-TIME:20161030T020000
TZNAME:CET
TZOFFSETFROM:+0200
TZOFFSETTO:+0100
END:STANDARD
END:VTIMEZONE
END:VCALENDAR
