BEGIN:VCALENDAR
VERSION:2.0
PRODID:-//Plone.org//NONSGML plone.app.event//EN
X-WR-TIMEZONE:Europe/Rome
BEGIN:VEVENT
SUMMARY:Africa as Method. A Handbook of sources and methodologies\, Spring
 er\, 2024\, a cura di Uoldelul Chelati Dirar e Karin Pallaver
DTSTART;TZID=Europe/Rome;VALUE=DATE-TIME:20250410T163000
DTEND;TZID=Europe/Rome;VALUE=DATE-TIME:20250410T183000
DTSTAMP;VALUE=DATE-TIME:20260419T145713Z
UID:741e370069584cc08224026bdb2376f7@disci.unibo.it
CREATED;VALUE=DATE-TIME:20250407T080736Z
DESCRIPTION:Presentazione del volume dedicato a Irma Taddia\, storica e do
 cente dell’Università di Bologna\,
LAST-MODIFIED;VALUE=DATE-TIME:20250407T081007Z
URL:https://disci.unibo.it/it/eventi/africa-as-method-a-handbook-of-source
 s-and-methodologies-springer-2024-a-cura-di-uoldelul-chelati-dirar-e-karin
 -pallaver
END:VEVENT
BEGIN:VTIMEZONE
TZID:Europe/Rome
X-LIC-LOCATION:Europe/Rome
BEGIN:DAYLIGHT
DTSTART;VALUE=DATE-TIME:20250330T030000
TZNAME:CEST
TZOFFSETFROM:+0100
TZOFFSETTO:+0200
END:DAYLIGHT
END:VTIMEZONE
END:VCALENDAR
