BEGIN:VCALENDAR
VERSION:2.0
PRODID:-//Plone.org//NONSGML plone.app.event//EN
X-WR-TIMEZONE:Europe/Rome
BEGIN:VEVENT
SUMMARY:Alcune dimensioni transnazionali del dissenso sovietico (in ingles
 e)\, a cura di Sophie Coeuré Università Paris-Cité\, Paris
DTSTART;TZID=Europe/Rome;VALUE=DATE-TIME:20230323T110000
DTEND;TZID=Europe/Rome;VALUE=DATE-TIME:20230323T130000
DTSTAMP;VALUE=DATE-TIME:20260421T064806Z
UID:ff9b53effa6b4706a960ff240ec1f650@disci.unibo.it
CREATED;VALUE=DATE-TIME:20230306T092202Z
DESCRIPTION:Conferenza.
LAST-MODIFIED;VALUE=DATE-TIME:20230306T092352Z
URL:https://disci.unibo.it/it/eventi/alcune-dimensioni-transnazionali-del-
 dissenso-sovietico-in-inglese-a-cura-di-sophie-coeure-universita-paris-cit
 e-paris
END:VEVENT
BEGIN:VTIMEZONE
TZID:Europe/Rome
X-LIC-LOCATION:Europe/Rome
BEGIN:STANDARD
DTSTART;VALUE=DATE-TIME:20221030T020000
TZNAME:CET
TZOFFSETFROM:+0200
TZOFFSETTO:+0100
END:STANDARD
END:VTIMEZONE
END:VCALENDAR
