BEGIN:VCALENDAR
VERSION:2.0
PRODID:-//Plone.org//NONSGML plone.app.event//EN
X-WR-TIMEZONE:Europe/Rome
BEGIN:VEVENT
SUMMARY:Alto e pieno Medioevo: gli insediamenti e l'economia
DTSTART;TZID=Europe/Rome;VALUE=DATE-TIME:20170223T151500
DTEND;TZID=Europe/Rome;VALUE=DATE-TIME:20170223T170000
DTSTAMP;VALUE=DATE-TIME:20260422T204608Z
UID:a90dfd61283f485b9dde63d0600dcfcf@disci.unibo.it
CREATED;VALUE=DATE-TIME:20170217T075045Z
DESCRIPTION:Seminario del ciclo: "Un territorio a raggi X: la Romagna nord
 -occidentale e la sua storia".
LAST-MODIFIED;VALUE=DATE-TIME:20170217T075850Z
URL:https://disci.unibo.it/it/eventi/alto-e-pieno-medioevo-gli-insediament
 i-e-leconomia
END:VEVENT
BEGIN:VTIMEZONE
TZID:Europe/Rome
X-LIC-LOCATION:Europe/Rome
BEGIN:STANDARD
DTSTART;VALUE=DATE-TIME:20161030T020000
TZNAME:CET
TZOFFSETFROM:+0200
TZOFFSETTO:+0100
END:STANDARD
END:VTIMEZONE
END:VCALENDAR
