BEGIN:VCALENDAR
VERSION:2.0
PRODID:-//Plone.org//NONSGML plone.app.event//EN
X-WR-TIMEZONE:Europe/Rome
BEGIN:VEVENT
SUMMARY:Andare per l'Italia araba
DTSTART;TZID=Europe/Rome;VALUE=DATE-TIME:20150223T150000
DTEND;TZID=Europe/Rome;VALUE=DATE-TIME:20150223T170000
DTSTAMP;VALUE=DATE-TIME:20260419T170009Z
UID:95eb3885ed7749979f16c9490840426a@disci.unibo.it
CREATED;VALUE=DATE-TIME:20150219T075802Z
DESCRIPTION:Seminario di Dottorato.
LAST-MODIFIED;VALUE=DATE-TIME:20150219T081602Z
URL:https://disci.unibo.it/it/eventi/andare-per-litalia-araba
END:VEVENT
BEGIN:VTIMEZONE
TZID:Europe/Rome
X-LIC-LOCATION:Europe/Rome
BEGIN:STANDARD
DTSTART;VALUE=DATE-TIME:20141026T020000
TZNAME:CET
TZOFFSETFROM:+0200
TZOFFSETTO:+0100
END:STANDARD
END:VTIMEZONE
END:VCALENDAR
