BEGIN:VCALENDAR
VERSION:2.0
PRODID:-//Plone.org//NONSGML plone.app.event//EN
X-WR-TIMEZONE:Europe/Rome
BEGIN:VEVENT
SUMMARY:Anima e corpo. Donne e fedi nel mondo mediterraneo (secoli XI - XV
 I)
DTSTART;TZID=Europe/Rome;VALUE=DATE-TIME:20231013T150000
DTEND;TZID=Europe/Rome;VALUE=DATE-TIME:20231013T170000
DTSTAMP;VALUE=DATE-TIME:20260421T064806Z
UID:3f6d61cad16f419c8ccfbec659a8e9a0@disci.unibo.it
CREATED;VALUE=DATE-TIME:20230921T080411Z
DESCRIPTION:Presentazione del volume.
LAST-MODIFIED;VALUE=DATE-TIME:20230921T080928Z
URL:https://disci.unibo.it/it/eventi/anima-e-corpo-donne-e-fedi-nel-mondo-
 mediterraneo-secoli-xi-xvi
END:VEVENT
BEGIN:VTIMEZONE
TZID:Europe/Rome
X-LIC-LOCATION:Europe/Rome
BEGIN:DAYLIGHT
DTSTART;VALUE=DATE-TIME:20230326T030000
TZNAME:CEST
TZOFFSETFROM:+0100
TZOFFSETTO:+0200
END:DAYLIGHT
END:VTIMEZONE
END:VCALENDAR
