BEGIN:VCALENDAR
VERSION:2.0
PRODID:-//Plone.org//NONSGML plone.app.event//EN
X-WR-TIMEZONE:Europe/Rome
BEGIN:VEVENT
SUMMARY:Approcci interdisciplinari allo studio del sito archeologico di Ka
 fir Kala\, Uzbekistan
DTSTART;TZID=Europe/Rome;VALUE=DATE-TIME:20231127T090000
DTEND;TZID=Europe/Rome;VALUE=DATE-TIME:20231127T120000
DTSTAMP;VALUE=DATE-TIME:20260421T050423Z
UID:7752e0711c034ae781af9866a1dd7279@disci.unibo.it
CREATED;VALUE=DATE-TIME:20231123T092523Z
DESCRIPTION:Incontro KALAM.
LAST-MODIFIED;VALUE=DATE-TIME:20231123T093226Z
URL:https://disci.unibo.it/it/eventi/approcci-interdisciplinari-allo-studi
 o-del-sito-archeologico-di-kafir-kala-uzbekistan
END:VEVENT
BEGIN:VTIMEZONE
TZID:Europe/Rome
X-LIC-LOCATION:Europe/Rome
BEGIN:STANDARD
DTSTART;VALUE=DATE-TIME:20231029T020000
TZNAME:CET
TZOFFSETFROM:+0200
TZOFFSETTO:+0100
END:STANDARD
END:VTIMEZONE
END:VCALENDAR
