BEGIN:VCALENDAR
VERSION:2.0
PRODID:-//Plone.org//NONSGML plone.app.event//EN
X-WR-TIMEZONE:Europe/Rome
BEGIN:VEVENT
SUMMARY:Archeologia dell'architettura a Pompei: l'insula del Centenario
DTSTART;TZID=Europe/Rome;VALUE=DATE-TIME:20170220T153500
DTEND;TZID=Europe/Rome;VALUE=DATE-TIME:20170220T190000
DTSTAMP;VALUE=DATE-TIME:20260422T204410Z
UID:d8186ad3e9f949338ef20864bc98fc99@disci.unibo.it
CREATED;VALUE=DATE-TIME:20170202T094142Z
LAST-MODIFIED;VALUE=DATE-TIME:20210130T010300Z
URL:https://disci.unibo.it/it/eventi/archeologia-architettura-pompei-insul
 a-centenario
END:VEVENT
BEGIN:VTIMEZONE
TZID:Europe/Rome
X-LIC-LOCATION:Europe/Rome
BEGIN:STANDARD
DTSTART;VALUE=DATE-TIME:20161030T020000
TZNAME:CET
TZOFFSETFROM:+0200
TZOFFSETTO:+0100
END:STANDARD
END:VTIMEZONE
END:VCALENDAR
