BEGIN:VCALENDAR
VERSION:2.0
PRODID:-//Plone.org//NONSGML plone.app.event//EN
X-WR-TIMEZONE:Europe/Rome
BEGIN:VEVENT
SUMMARY:Architettura e geometria sacra a Bologna\, dal medioevo a oggi
DTSTART;TZID=Europe/Rome;VALUE=DATE-TIME:20161205T170000
DTEND;TZID=Europe/Rome;VALUE=DATE-TIME:20161205T190000
DTSTAMP;VALUE=DATE-TIME:20260422T140532Z
UID:6d5017a3866b41e4bba35abcdf6e9cea@disci.unibo.it
CREATED;VALUE=DATE-TIME:20161201T081005Z
LAST-MODIFIED;VALUE=DATE-TIME:20161201T081900Z
URL:https://disci.unibo.it/it/eventi/architettura-e-geometria-sacra-a-bolo
 gna-dal-medioevo-a-oggi-1
END:VEVENT
BEGIN:VTIMEZONE
TZID:Europe/Rome
X-LIC-LOCATION:Europe/Rome
BEGIN:STANDARD
DTSTART;VALUE=DATE-TIME:20161030T020000
TZNAME:CET
TZOFFSETFROM:+0200
TZOFFSETTO:+0100
END:STANDARD
END:VTIMEZONE
END:VCALENDAR
