BEGIN:VCALENDAR
VERSION:2.0
PRODID:-//Plone.org//NONSGML plone.app.event//EN
X-WR-TIMEZONE:Europe/Rome
BEGIN:VEVENT
SUMMARY:Arte islamica a Bologna: la collezione di Ferdinando Cospi
DTSTART;TZID=Europe/Rome;VALUE=DATE-TIME:20151124T170000
DTEND;TZID=Europe/Rome;VALUE=DATE-TIME:20151124T190000
DTSTAMP;VALUE=DATE-TIME:20260420T213416Z
UID:09b5f39b85bb4a67a4b4c5116629b8a9@disci.unibo.it
CREATED;VALUE=DATE-TIME:20151113T081227Z
DESCRIPTION:Seminari di Arte Asiatica.
LAST-MODIFIED;VALUE=DATE-TIME:20210302T152922Z
URL:https://disci.unibo.it/it/eventi/arte-islamica-a-bologna-la-collezione
 -di-ferdinando-cospi
END:VEVENT
BEGIN:VTIMEZONE
TZID:Europe/Rome
X-LIC-LOCATION:Europe/Rome
BEGIN:STANDARD
DTSTART;VALUE=DATE-TIME:20151025T020000
TZNAME:CET
TZOFFSETFROM:+0200
TZOFFSETTO:+0100
END:STANDARD
END:VTIMEZONE
END:VCALENDAR
