BEGIN:VCALENDAR
VERSION:2.0
PRODID:-//Plone.org//NONSGML plone.app.event//EN
X-WR-TIMEZONE:Europe/Rome
BEGIN:VEVENT
SUMMARY:Il Collegio incontra... Antonella Coralini - Vesuviana (1997-). L
 ’Alma Mater a Pompei\, Ercolano e Napoli
DTSTART;TZID=Europe/Rome;VALUE=DATE-TIME:20170215T170000
DTEND;TZID=Europe/Rome;VALUE=DATE-TIME:20170215T190000
DTSTAMP;VALUE=DATE-TIME:20260422T221547Z
UID:2823ca999c0a4dedb6d420f979370736@disci.unibo.it
CREATED;VALUE=DATE-TIME:20170213T100410Z
LAST-MODIFIED;VALUE=DATE-TIME:20170213T101804Z
URL:https://disci.unibo.it/it/eventi/collegio-vesuviana-1997-alma-mater-po
 mpei-ercolano-napoli
END:VEVENT
BEGIN:VTIMEZONE
TZID:Europe/Rome
X-LIC-LOCATION:Europe/Rome
BEGIN:STANDARD
DTSTART;VALUE=DATE-TIME:20161030T020000
TZNAME:CET
TZOFFSETFROM:+0200
TZOFFSETTO:+0100
END:STANDARD
END:VTIMEZONE
END:VCALENDAR
