BEGIN:VCALENDAR
VERSION:2.0
PRODID:-//Plone.org//NONSGML plone.app.event//EN
X-WR-TIMEZONE:Europe/Rome
BEGIN:VEVENT
SUMMARY:Come inizia il Mahābhārata? Analisi e traduzione dei primi passi
  della grande epica indiana.
DTSTART;TZID=Europe/Rome;VALUE=DATE-TIME:20170323T140000
DTEND;TZID=Europe/Rome;VALUE=DATE-TIME:20170504T160000
DTSTAMP;VALUE=DATE-TIME:20260422T122912Z
UID:21f42a35842e4dbe91a6205629cf8c71@disci.unibo.it
CREATED;VALUE=DATE-TIME:20170314T071324Z
DESCRIPTION:Ciclo seminariale indologico.
LAST-MODIFIED;VALUE=DATE-TIME:20170315T144615Z
URL:https://disci.unibo.it/it/eventi/come-inizia-il-mahabharata-analisi-e-
 traduzione-dei-primi-passi-della-grande-epica-indiana
END:VEVENT
BEGIN:VTIMEZONE
TZID:Europe/Rome
X-LIC-LOCATION:Europe/Rome
BEGIN:STANDARD
DTSTART;VALUE=DATE-TIME:20161030T020000
TZNAME:CET
TZOFFSETFROM:+0200
TZOFFSETTO:+0100
END:STANDARD
BEGIN:DAYLIGHT
DTSTART;VALUE=DATE-TIME:20170326T030000
TZNAME:CEST
TZOFFSETFROM:+0100
TZOFFSETTO:+0200
END:DAYLIGHT
END:VTIMEZONE
END:VCALENDAR
