BEGIN:VCALENDAR
VERSION:2.0
PRODID:-//Plone.org//NONSGML plone.app.event//EN
X-WR-TIMEZONE:Europe/Rome
BEGIN:VEVENT
SUMMARY:Contro l'ambiguità: La ricezione delle opere di Julij Daniel prim
 a e dopo il suo processo (1966)\, a cura di Julia Boechat-Machado Central 
 European University\, Vienna
DTSTART;TZID=Europe/Rome;VALUE=DATE-TIME:20230403T130000
DTEND;TZID=Europe/Rome;VALUE=DATE-TIME:20230403T150000
DTSTAMP;VALUE=DATE-TIME:20260421T064733Z
UID:50ec779d1efd4735b8baded45ea90ff8@disci.unibo.it
CREATED;VALUE=DATE-TIME:20230306T092656Z
DESCRIPTION:Conferenza.
LAST-MODIFIED;VALUE=DATE-TIME:20230306T092736Z
URL:https://disci.unibo.it/it/eventi/contro-l-ambiguita-la-ricezione-delle
 -opere-di-julij-daniel-prima-e-dopo-il-suo-processo-1966-a-cura-di-julia-b
 oechat-machado-central-european-university-vienna
END:VEVENT
BEGIN:VTIMEZONE
TZID:Europe/Rome
X-LIC-LOCATION:Europe/Rome
BEGIN:DAYLIGHT
DTSTART;VALUE=DATE-TIME:20230326T030000
TZNAME:CEST
TZOFFSETFROM:+0100
TZOFFSETTO:+0200
END:DAYLIGHT
END:VTIMEZONE
END:VCALENDAR
