BEGIN:VCALENDAR
VERSION:2.0
PRODID:-//Plone.org//NONSGML plone.app.event//EN
X-WR-TIMEZONE:Europe/Rome
BEGIN:VEVENT
SUMMARY:Corpus Franciscanum Francesco d'Assisi corpo e scrittura. Jacques 
 Dalarun ( Institut de France)
DTSTART;TZID=Europe/Rome;VALUE=DATE-TIME:20231215T170000
DTEND;TZID=Europe/Rome;VALUE=DATE-TIME:20231215T190000
DTSTAMP;VALUE=DATE-TIME:20260419T145707Z
UID:7955d33ebfb84b69a86ba1f597e643ea@disci.unibo.it
CREATED;VALUE=DATE-TIME:20231204T091953Z
DESCRIPTION:Seminario di medievistica
LAST-MODIFIED;VALUE=DATE-TIME:20231204T092806Z
URL:https://disci.unibo.it/it/eventi/corpus-franciscanum-francesco-d-assis
 i-corpo-e-scrittura
END:VEVENT
BEGIN:VTIMEZONE
TZID:Europe/Rome
X-LIC-LOCATION:Europe/Rome
BEGIN:STANDARD
DTSTART;VALUE=DATE-TIME:20231029T020000
TZNAME:CET
TZOFFSETFROM:+0200
TZOFFSETTO:+0100
END:STANDARD
END:VTIMEZONE
END:VCALENDAR
