BEGIN:VCALENDAR
VERSION:2.0
PRODID:-//Plone.org//NONSGML plone.app.event//EN
X-WR-TIMEZONE:Europe/Rome
BEGIN:VEVENT
SUMMARY:Costretti a confessare. Un colpo di stato a Bologna nel Rinascimen
 to. A cura di Daniele Labanti (Università di Bologna)
DTSTART;TZID=Europe/Rome;VALUE=DATE-TIME:20250507T150000
DTEND;TZID=Europe/Rome;VALUE=DATE-TIME:20250507T170000
DTSTAMP;VALUE=DATE-TIME:20260419T145655Z
UID:c5f1934be6ba4382b70e7bbcd0bf4faa@disci.unibo.it
CREATED;VALUE=DATE-TIME:20250429T092507Z
DESCRIPTION:Seminario di medievistica
LAST-MODIFIED;VALUE=DATE-TIME:20250429T093505Z
URL:https://disci.unibo.it/it/eventi/costretti-a-confessare-un-colpo-di-st
 ato-a-bologna-nel-rinascimento-a-cura-di-daniele-labanti-universita-di-bol
 ogna
END:VEVENT
BEGIN:VTIMEZONE
TZID:Europe/Rome
X-LIC-LOCATION:Europe/Rome
BEGIN:DAYLIGHT
DTSTART;VALUE=DATE-TIME:20250330T030000
TZNAME:CEST
TZOFFSETFROM:+0100
TZOFFSETTO:+0200
END:DAYLIGHT
END:VTIMEZONE
END:VCALENDAR
