BEGIN:VCALENDAR
VERSION:2.0
PRODID:-//Plone.org//NONSGML plone.app.event//EN
X-WR-TIMEZONE:Europe/Rome
BEGIN:VEVENT
SUMMARY:Critica della questione ebraica. Karl Marx e l’antisemitismo (Bo
 llati Boringhieri 2024)\, Manuel Disegni
DTSTART;TZID=Europe/Rome;VALUE=DATE-TIME:20250609T150000
DTEND;TZID=Europe/Rome;VALUE=DATE-TIME:20250609T170000
DTSTAMP;VALUE=DATE-TIME:20260423T162358Z
UID:fdf0e9349f9b47b18dff3661340fa686@disci.unibo.it
CREATED;VALUE=DATE-TIME:20250519T091122Z
DESCRIPTION:Presentazione del volume
LAST-MODIFIED;VALUE=DATE-TIME:20250519T092746Z
URL:https://disci.unibo.it/it/eventi/critica-della-questione-ebraica-karl-
 marx-e-l-antisemitismo-bollati-boringhieri-2024-manuel-disegni
END:VEVENT
BEGIN:VTIMEZONE
TZID:Europe/Rome
X-LIC-LOCATION:Europe/Rome
BEGIN:DAYLIGHT
DTSTART;VALUE=DATE-TIME:20250330T030000
TZNAME:CEST
TZOFFSETFROM:+0100
TZOFFSETTO:+0200
END:DAYLIGHT
END:VTIMEZONE
END:VCALENDAR
