BEGIN:VCALENDAR
VERSION:2.0
PRODID:-//Plone.org//NONSGML plone.app.event//EN
X-WR-TIMEZONE:Europe/Rome
BEGIN:VEVENT
SUMMARY:Dalla realtà storica alla riscrittura storiografica
DTSTART;TZID=Europe/Rome;VALUE=DATE-TIME:20170503T103000
DTEND;TZID=Europe/Rome;VALUE=DATE-TIME:20170505T140000
DTSTAMP;VALUE=DATE-TIME:20260420T171438Z
UID:04561d87bfcd46cd9db622eb6db042a7@disci.unibo.it
CREATED;VALUE=DATE-TIME:20170427T075911Z
DESCRIPTION:Ciclo di conferenze.
LAST-MODIFIED;VALUE=DATE-TIME:20170427T082731Z
URL:https://disci.unibo.it/it/eventi/dalla-realta-storica-alla-riscrittura
 -storiografica-1
END:VEVENT
BEGIN:VTIMEZONE
TZID:Europe/Rome
X-LIC-LOCATION:Europe/Rome
BEGIN:DAYLIGHT
DTSTART;VALUE=DATE-TIME:20170326T030000
TZNAME:CEST
TZOFFSETFROM:+0100
TZOFFSETTO:+0200
END:DAYLIGHT
END:VTIMEZONE
END:VCALENDAR
