BEGIN:VCALENDAR
VERSION:2.0
PRODID:-//Plone.org//NONSGML plone.app.event//EN
X-WR-TIMEZONE:Europe/Rome
BEGIN:VEVENT
SUMMARY:Dante a Bologna
DTSTART;TZID=Europe/Rome;VALUE=DATE-TIME:20211027T150000
DTEND;TZID=Europe/Rome;VALUE=DATE-TIME:20211029T130000
DTSTAMP;VALUE=DATE-TIME:20260421T153658Z
UID:26a62aa7d775450a987269aeeacc0b5f@disci.unibo.it
CREATED;VALUE=DATE-TIME:20211022T135522Z
DESCRIPTION:Convegno internazionale di studi in occasione del VII centenar
 io della morte di Dante Alighieri - in memoria di Emilio Pasquini
LAST-MODIFIED;VALUE=DATE-TIME:20211025T104741Z
URL:https://disci.unibo.it/it/eventi/dante-a-bologna
END:VEVENT
BEGIN:VTIMEZONE
TZID:Europe/Rome
X-LIC-LOCATION:Europe/Rome
BEGIN:DAYLIGHT
DTSTART;VALUE=DATE-TIME:20210328T030000
TZNAME:CEST
TZOFFSETFROM:+0100
TZOFFSETTO:+0200
END:DAYLIGHT
END:VTIMEZONE
END:VCALENDAR
