BEGIN:VCALENDAR
VERSION:2.0
PRODID:-//Plone.org//NONSGML plone.app.event//EN
X-WR-TIMEZONE:Europe/Rome
BEGIN:VEVENT
SUMMARY:Deputazione di storia patria per le province di Romagna
DTSTART;TZID=Europe/Rome;VALUE=DATE-TIME:20211218T100000
DTEND;TZID=Europe/Rome;VALUE=DATE-TIME:20211218T130000
DTSTAMP;VALUE=DATE-TIME:20260423T050254Z
UID:6eee4b095c4b491c91b4894a76ef4166@disci.unibo.it
CREATED;VALUE=DATE-TIME:20211207T100133Z
DESCRIPTION:Ricordo di Alfeo Giacomelli
LAST-MODIFIED;VALUE=DATE-TIME:20211217T084207Z
URL:https://disci.unibo.it/it/eventi/deputazione-di-storia-patria-per-le-p
 rovince-di-romagna
END:VEVENT
BEGIN:VTIMEZONE
TZID:Europe/Rome
X-LIC-LOCATION:Europe/Rome
BEGIN:STANDARD
DTSTART;VALUE=DATE-TIME:20211031T020000
TZNAME:CET
TZOFFSETFROM:+0200
TZOFFSETTO:+0100
END:STANDARD
END:VTIMEZONE
END:VCALENDAR
