BEGIN:VCALENDAR
VERSION:2.0
PRODID:-//Plone.org//NONSGML plone.app.event//EN
X-WR-TIMEZONE:Europe/Rome
BEGIN:VEVENT
SUMMARY:Diavoli e inferni nel Medioevo. Origine e sviluppo delle immagini 
 dal VI al XV secolo 
DTSTART;TZID=Europe/Rome;VALUE=DATE-TIME:20170221T170000
DTEND;TZID=Europe/Rome;VALUE=DATE-TIME:20170221T190000
DTSTAMP;VALUE=DATE-TIME:20260422T221547Z
UID:b7327a76ea3f45d5a385a4c06820d99f@disci.unibo.it
CREATED;VALUE=DATE-TIME:20170203T105436Z
DESCRIPTION:Presentazione del volume di Laura Pasquini.
LAST-MODIFIED;VALUE=DATE-TIME:20170203T110133Z
URL:https://disci.unibo.it/it/eventi/diavoli-e-inferni-nel-medioevo.-origi
 ne-e-sviluppo-delle-immagini-dal-vi-al-xv-secolo
END:VEVENT
BEGIN:VTIMEZONE
TZID:Europe/Rome
X-LIC-LOCATION:Europe/Rome
BEGIN:STANDARD
DTSTART;VALUE=DATE-TIME:20161030T020000
TZNAME:CET
TZOFFSETFROM:+0200
TZOFFSETTO:+0100
END:STANDARD
END:VTIMEZONE
END:VCALENDAR
