BEGIN:VCALENDAR
VERSION:2.0
PRODID:-//Plone.org//NONSGML plone.app.event//EN
X-WR-TIMEZONE:Europe/Rome
BEGIN:VEVENT
SUMMARY:Domenico e Bologna. Genesi e sviluppo dell’Ordine dei Predicator
 i
DTSTART;TZID=Europe/Rome;VALUE=DATE-TIME:20210922T090000
DTEND;TZID=Europe/Rome;VALUE=DATE-TIME:20210925T130000
DTSTAMP;VALUE=DATE-TIME:20260421T090413Z
UID:a44677bbe374469391c2d1dae86a2c45@disci.unibo.it
CREATED;VALUE=DATE-TIME:20210913T075636Z
DESCRIPTION:Convegno internazionale di studi in occasione dell’ottavo ce
 ntenario della morte di Domenico di Caleruega (1221-2021)
LAST-MODIFIED;VALUE=DATE-TIME:20210913T080613Z
URL:https://disci.unibo.it/it/eventi/domenico-e-bologna-genesi-e-sviluppo-
 dell-ordine-dei-predicatori
END:VEVENT
BEGIN:VTIMEZONE
TZID:Europe/Rome
X-LIC-LOCATION:Europe/Rome
BEGIN:DAYLIGHT
DTSTART;VALUE=DATE-TIME:20210328T030000
TZNAME:CEST
TZOFFSETFROM:+0100
TZOFFSETTO:+0200
END:DAYLIGHT
END:VTIMEZONE
END:VCALENDAR
