BEGIN:VCALENDAR
VERSION:2.0
PRODID:-//Plone.org//NONSGML plone.app.event//EN
X-WR-TIMEZONE:Europe/Rome
BEGIN:VEVENT
SUMMARY:Due incontri con Chiara Santini
DTSTART;TZID=Europe/Rome;VALUE=DATE-TIME:20150223T150000
DTEND;TZID=Europe/Rome;VALUE=DATE-TIME:20150224T170000
DTSTAMP;VALUE=DATE-TIME:20260421T121548Z
UID:e49d9e605c1c4b57ad635dcf51ddee0d@disci.unibo.it
CREATED;VALUE=DATE-TIME:20150219T084312Z
DESCRIPTION:Corso di Geografia Urbana.
LAST-MODIFIED;VALUE=DATE-TIME:20150219T085431Z
URL:https://disci.unibo.it/it/eventi/due-incontri-con-chiara-santini
END:VEVENT
BEGIN:VTIMEZONE
TZID:Europe/Rome
X-LIC-LOCATION:Europe/Rome
BEGIN:STANDARD
DTSTART;VALUE=DATE-TIME:20141026T020000
TZNAME:CET
TZOFFSETFROM:+0200
TZOFFSETTO:+0100
END:STANDARD
END:VTIMEZONE
END:VCALENDAR
