BEGIN:VCALENDAR
VERSION:2.0
PRODID:-//Plone.org//NONSGML plone.app.event//EN
X-WR-TIMEZONE:Europe/Rome
BEGIN:VEVENT
SUMMARY:Economia e Territorio. L'Adriatico centrale tra tarda Antichità e
  alto Medioevo
DTSTART;TZID=Europe/Rome;VALUE=DATE-TIME:20191213T113000
DTEND;TZID=Europe/Rome;VALUE=DATE-TIME:20191213T130000
DTSTAMP;VALUE=DATE-TIME:20260422T185633Z
UID:f8b6298a44ca411e81ca961e3e6345bb@disci.unibo.it
CREATED;VALUE=DATE-TIME:20191202T110701Z
DESCRIPTION:Presentazione del libro.
LAST-MODIFIED;VALUE=DATE-TIME:20191202T110823Z
URL:https://disci.unibo.it/it/eventi/economia-e-territorio.-ladriatico-cen
 trale-tra-tarda-antichita-e-alto-medioevo
END:VEVENT
BEGIN:VTIMEZONE
TZID:Europe/Rome
X-LIC-LOCATION:Europe/Rome
BEGIN:STANDARD
DTSTART;VALUE=DATE-TIME:20191027T020000
TZNAME:CET
TZOFFSETFROM:+0200
TZOFFSETTO:+0100
END:STANDARD
END:VTIMEZONE
END:VCALENDAR
