BEGIN:VCALENDAR
VERSION:2.0
PRODID:-//Plone.org//NONSGML plone.app.event//EN
X-WR-TIMEZONE:Europe/Rome
BEGIN:VEVENT
SUMMARY:Empires in the Archaeological Record
DTSTART;TZID=Europe/Rome;VALUE=DATE-TIME:20160208T093000
DTEND;TZID=Europe/Rome;VALUE=DATE-TIME:20160208T130000
DTSTAMP;VALUE=DATE-TIME:20260421T073220Z
UID:d0822154f6774f3fad125432d4e7225e@disci.unibo.it
CREATED;VALUE=DATE-TIME:20160126T120146Z
DESCRIPTION:2nd Bologna Seminar on Cross-Cultural Archaeology
LAST-MODIFIED;VALUE=DATE-TIME:20160204T150752Z
URL:https://disci.unibo.it/it/eventi/empires-in-the-archaeological-record
END:VEVENT
BEGIN:VTIMEZONE
TZID:Europe/Rome
X-LIC-LOCATION:Europe/Rome
BEGIN:STANDARD
DTSTART;VALUE=DATE-TIME:20151025T020000
TZNAME:CET
TZOFFSETFROM:+0200
TZOFFSETTO:+0100
END:STANDARD
END:VTIMEZONE
END:VCALENDAR
