BEGIN:VCALENDAR
VERSION:2.0
PRODID:-//Plone.org//NONSGML plone.app.event//EN
X-WR-TIMEZONE:Europe/Rome
BEGIN:VEVENT
SUMMARY:Ercolano: i più recenti e pregiati rinvenimenti
DTSTART;TZID=Europe/Rome;VALUE=DATE-TIME:20170214T103000
DTEND;TZID=Europe/Rome;VALUE=DATE-TIME:20170214T123000
DTSTAMP;VALUE=DATE-TIME:20260424T062712Z
UID:094b747dec5648f1baa91803e39c80fd@disci.unibo.it
CREATED;VALUE=DATE-TIME:20170202T092944Z
LAST-MODIFIED;VALUE=DATE-TIME:20210130T010611Z
URL:https://disci.unibo.it/it/eventi/ercolano-i-piu-recenti-e-pregiati-rin
 venimenti
END:VEVENT
BEGIN:VTIMEZONE
TZID:Europe/Rome
X-LIC-LOCATION:Europe/Rome
BEGIN:STANDARD
DTSTART;VALUE=DATE-TIME:20161030T020000
TZNAME:CET
TZOFFSETFROM:+0200
TZOFFSETTO:+0100
END:STANDARD
END:VTIMEZONE
END:VCALENDAR
