BEGIN:VCALENDAR
VERSION:2.0
PRODID:-//Plone.org//NONSGML plone.app.event//EN
X-WR-TIMEZONE:Europe/Rome
BEGIN:VEVENT
SUMMARY:Evidence for the Achaemenid period from recent excavations in West
 ern Fars
DTSTART;TZID=Europe/Rome;VALUE=DATE-TIME:20190926T150000
DTEND;TZID=Europe/Rome;VALUE=DATE-TIME:20190926T170000
DTSTAMP;VALUE=DATE-TIME:20260422T084049Z
UID:c1dd0dddcbd84b4d849ce656ce14e476@disci.unibo.it
CREATED;VALUE=DATE-TIME:20190920T054622Z
LAST-MODIFIED;VALUE=DATE-TIME:20190920T062706Z
URL:https://disci.unibo.it/it/eventi/evidence-for-the-achaemenid-period-fr
 om-recent-excavations-in-western-fars
END:VEVENT
BEGIN:VTIMEZONE
TZID:Europe/Rome
X-LIC-LOCATION:Europe/Rome
BEGIN:DAYLIGHT
DTSTART;VALUE=DATE-TIME:20190331T030000
TZNAME:CEST
TZOFFSETFROM:+0100
TZOFFSETTO:+0200
END:DAYLIGHT
END:VTIMEZONE
END:VCALENDAR
