BEGIN:VCALENDAR
VERSION:2.0
PRODID:-//Plone.org//NONSGML plone.app.event//EN
X-WR-TIMEZONE:Europe/Rome
BEGIN:VEVENT
SUMMARY:Felicità d'Italia. Paesaggio\, arte\, musica\, cibo
DTSTART;TZID=Europe/Rome;VALUE=DATE-TIME:20170510T170000
DTEND;TZID=Europe/Rome;VALUE=DATE-TIME:20170510T183000
DTSTAMP;VALUE=DATE-TIME:20260420T131854Z
UID:fd01bd9afbb747cd9d1969dd40f624c7@disci.unibo.it
CREATED;VALUE=DATE-TIME:20170427T053802Z
DESCRIPTION:Presentazione del volume.
LAST-MODIFIED;VALUE=DATE-TIME:20170427T054631Z
URL:https://disci.unibo.it/it/eventi/felicita-ditalia.-paesaggio-arte-musi
 ca-cibo
END:VEVENT
BEGIN:VTIMEZONE
TZID:Europe/Rome
X-LIC-LOCATION:Europe/Rome
BEGIN:DAYLIGHT
DTSTART;VALUE=DATE-TIME:20170326T030000
TZNAME:CEST
TZOFFSETFROM:+0100
TZOFFSETTO:+0200
END:DAYLIGHT
END:VTIMEZONE
END:VCALENDAR
