BEGIN:VCALENDAR
VERSION:2.0
PRODID:-//Plone.org//NONSGML plone.app.event//EN
X-WR-TIMEZONE:Europe/Rome
BEGIN:VEVENT
SUMMARY:Generi e femminismi nella casa dell’antropologia
DTSTART;TZID=Europe/Rome;VALUE=DATE-TIME:20250226T150000
DTEND;TZID=Europe/Rome;VALUE=DATE-TIME:20250226T170000
DTSTAMP;VALUE=DATE-TIME:20260421T161410Z
UID:562f223c020c41079d89761989ae293e@disci.unibo.it
CREATED;VALUE=DATE-TIME:20250205T092102Z
DESCRIPTION:Seminario permanente di teoria politica femminista a cura di P
 aola Rudan.
LAST-MODIFIED;VALUE=DATE-TIME:20250205T093935Z
URL:https://disci.unibo.it/it/eventi/generi-e-femminismi-nella-casa-dell-a
 ntropologia
END:VEVENT
BEGIN:VTIMEZONE
TZID:Europe/Rome
X-LIC-LOCATION:Europe/Rome
BEGIN:STANDARD
DTSTART;VALUE=DATE-TIME:20241027T020000
TZNAME:CET
TZOFFSETFROM:+0200
TZOFFSETTO:+0100
END:STANDARD
END:VTIMEZONE
END:VCALENDAR
