BEGIN:VCALENDAR
VERSION:2.0
PRODID:-//Plone.org//NONSGML plone.app.event//EN
X-WR-TIMEZONE:Europe/Rome
BEGIN:VEVENT
SUMMARY:Gli Arazzi di Bruxelles: un capolavoro riscoperto
DTSTART;TZID=Europe/Rome;VALUE=DATE-TIME:20210528T170000
DTEND;TZID=Europe/Rome;VALUE=DATE-TIME:20210528T183000
DTSTAMP;VALUE=DATE-TIME:20260423T015101Z
UID:2dd492f0c9974d7a80fcde3b290d9af1@disci.unibo.it
CREATED;VALUE=DATE-TIME:20210512T124532Z
LAST-MODIFIED;VALUE=DATE-TIME:20210518T155952Z
URL:https://disci.unibo.it/it/eventi/gli-arazzi-di-bruxelles-un-capolavoro
 -riscoperto
END:VEVENT
BEGIN:VTIMEZONE
TZID:Europe/Rome
X-LIC-LOCATION:Europe/Rome
BEGIN:DAYLIGHT
DTSTART;VALUE=DATE-TIME:20210328T030000
TZNAME:CEST
TZOFFSETFROM:+0100
TZOFFSETTO:+0200
END:DAYLIGHT
END:VTIMEZONE
END:VCALENDAR
