BEGIN:VCALENDAR
VERSION:2.0
PRODID:-//Plone.org//NONSGML plone.app.event//EN
X-WR-TIMEZONE:Europe/Rome
BEGIN:VEVENT
SUMMARY:Gli Etruschi nella valle del Po
DTSTART;TZID=Europe/Rome;VALUE=DATE-TIME:20220623T100000
DTEND;TZID=Europe/Rome;VALUE=DATE-TIME:20220625T180000
DTSTAMP;VALUE=DATE-TIME:20260422T122303Z
UID:31a70f3caf434ab381489b2e087bbba0@disci.unibo.it
CREATED;VALUE=DATE-TIME:20220614T135431Z
DESCRIPTION:XXX Convegno di Studi Etruschi e Italici
LAST-MODIFIED;VALUE=DATE-TIME:20220622T094416Z
URL:https://disci.unibo.it/it/eventi/gli-etruschi-nella-valle-del-po
END:VEVENT
BEGIN:VTIMEZONE
TZID:Europe/Rome
X-LIC-LOCATION:Europe/Rome
BEGIN:DAYLIGHT
DTSTART;VALUE=DATE-TIME:20220327T030000
TZNAME:CEST
TZOFFSETFROM:+0100
TZOFFSETTO:+0200
END:DAYLIGHT
END:VTIMEZONE
END:VCALENDAR
