BEGIN:VCALENDAR
VERSION:2.0
PRODID:-//Plone.org//NONSGML plone.app.event//EN
X-WR-TIMEZONE:Europe/Rome
BEGIN:VEVENT
SUMMARY:Globalizzazione\, Politiche Pubbliche e Sviluppo Territoriale
DTSTART;TZID=Europe/Rome;VALUE=DATE-TIME:20170216T090000
DTEND;TZID=Europe/Rome;VALUE=DATE-TIME:20170217T180000
DTSTAMP;VALUE=DATE-TIME:20260422T204528Z
UID:e9a47afe98534ac68820af38d8d9f0eb@disci.unibo.it
CREATED;VALUE=DATE-TIME:20170130T084523Z
DESCRIPTION:I Workshop Italia-Brasile.
LAST-MODIFIED;VALUE=DATE-TIME:20210301T143300Z
URL:https://disci.unibo.it/it/eventi/globalizzazione-politiche-pubbliche-e
 -sviluppo-territoriale-1
END:VEVENT
BEGIN:VTIMEZONE
TZID:Europe/Rome
X-LIC-LOCATION:Europe/Rome
BEGIN:STANDARD
DTSTART;VALUE=DATE-TIME:20161030T020000
TZNAME:CET
TZOFFSETFROM:+0200
TZOFFSETTO:+0100
END:STANDARD
END:VTIMEZONE
END:VCALENDAR
