BEGIN:VCALENDAR
VERSION:2.0
PRODID:-//Plone.org//NONSGML plone.app.event//EN
X-WR-TIMEZONE:Europe/Rome
BEGIN:VEVENT
SUMMARY:Habiter dans une ville romaine au debut de l'empire: Pompei
DTSTART;TZID=Europe/Rome;VALUE=DATE-TIME:20241218T150000
DTEND;TZID=Europe/Rome;VALUE=DATE-TIME:20241218T170000
DTSTAMP;VALUE=DATE-TIME:20260419T221016Z
UID:76e60021ac584efca7616ac2dd503be8@disci.unibo.it
CREATED;VALUE=DATE-TIME:20241217T085949Z
DESCRIPTION:Conferenza presso il Musée National de Carthage.
LAST-MODIFIED;VALUE=DATE-TIME:20241217T090808Z
URL:https://disci.unibo.it/it/eventi/habiter-dans-une-ville-romaine-au-deb
 ut-de-l-empire-pompei
END:VEVENT
BEGIN:VTIMEZONE
TZID:Europe/Rome
X-LIC-LOCATION:Europe/Rome
BEGIN:STANDARD
DTSTART;VALUE=DATE-TIME:20241027T020000
TZNAME:CET
TZOFFSETFROM:+0200
TZOFFSETTO:+0100
END:STANDARD
END:VTIMEZONE
END:VCALENDAR
