BEGIN:VCALENDAR
VERSION:2.0
PRODID:-//Plone.org//NONSGML plone.app.event//EN
X-WR-TIMEZONE:Europe/Rome
BEGIN:VEVENT
SUMMARY:I Greci e la terra
DTSTART;TZID=Europe/Rome;VALUE=DATE-TIME:20150514T100000
DTEND;TZID=Europe/Rome;VALUE=DATE-TIME:20150515T170000
DTSTAMP;VALUE=DATE-TIME:20260421T123425Z
UID:b311fb3c7c074ff8add98a4c32ef620c@disci.unibo.it
CREATED;VALUE=DATE-TIME:20150504T142120Z
LAST-MODIFIED;VALUE=DATE-TIME:20150504T143350Z
URL:https://disci.unibo.it/it/eventi/i-greci-e-la-terra
END:VEVENT
BEGIN:VTIMEZONE
TZID:Europe/Rome
X-LIC-LOCATION:Europe/Rome
BEGIN:DAYLIGHT
DTSTART;VALUE=DATE-TIME:20150329T030000
TZNAME:CEST
TZOFFSETFROM:+0100
TZOFFSETTO:+0200
END:DAYLIGHT
END:VTIMEZONE
END:VCALENDAR
