BEGIN:VCALENDAR
VERSION:2.0
PRODID:-//Plone.org//NONSGML plone.app.event//EN
X-WR-TIMEZONE:Europe/Rome
BEGIN:VEVENT
SUMMARY:Il cinema del Far East
DTSTART;TZID=Europe/Rome;VALUE=DATE-TIME:20190326T130000
DTEND;TZID=Europe/Rome;VALUE=DATE-TIME:20190514T160000
DTSTAMP;VALUE=DATE-TIME:20260421T074132Z
UID:c879913065354971ad93cd2927d1c45a@disci.unibo.it
CREATED;VALUE=DATE-TIME:20190313T081419Z
DESCRIPTION:Cinque incontri seminariali sul cinema asiatico con proiezione
  di spezzoni da film.
LAST-MODIFIED;VALUE=DATE-TIME:20190314T083623Z
URL:https://disci.unibo.it/it/eventi/il-cinema-del-far-east
END:VEVENT
BEGIN:VTIMEZONE
TZID:Europe/Rome
X-LIC-LOCATION:Europe/Rome
BEGIN:STANDARD
DTSTART;VALUE=DATE-TIME:20181028T020000
TZNAME:CET
TZOFFSETFROM:+0200
TZOFFSETTO:+0100
END:STANDARD
BEGIN:DAYLIGHT
DTSTART;VALUE=DATE-TIME:20190331T030000
TZNAME:CEST
TZOFFSETFROM:+0100
TZOFFSETTO:+0200
END:DAYLIGHT
END:VTIMEZONE
END:VCALENDAR
