BEGIN:VCALENDAR
VERSION:2.0
PRODID:-//Plone.org//NONSGML plone.app.event//EN
X-WR-TIMEZONE:Europe/Rome
BEGIN:VEVENT
SUMMARY:Il lavoro tra storia e scienze sociali [Ciclo sospeso]
DTSTART;TZID=Europe/Rome;VALUE=DATE-TIME:20191011T160000
DTEND;TZID=Europe/Rome;VALUE=DATE-TIME:20200428T160000
DTSTAMP;VALUE=DATE-TIME:20260425T153219Z
UID:a4ec2c510f274f229ab86c8875145799@disci.unibo.it
CREATED;VALUE=DATE-TIME:20191007T053951Z
DESCRIPTION:Ciclo di incontri in occasione del centenario dell’Organizza
 zione Internazionale del Lavoro.
LAST-MODIFIED;VALUE=DATE-TIME:20210301T111225Z
URL:https://disci.unibo.it/it/eventi/il-lavoro-tra-storia-e-scienze-social
 i
END:VEVENT
BEGIN:VTIMEZONE
TZID:Europe/Rome
X-LIC-LOCATION:Europe/Rome
BEGIN:DAYLIGHT
DTSTART;VALUE=DATE-TIME:20190331T030000
TZNAME:CEST
TZOFFSETFROM:+0100
TZOFFSETTO:+0200
END:DAYLIGHT
BEGIN:DAYLIGHT
DTSTART;VALUE=DATE-TIME:20200329T030000
TZNAME:CEST
TZOFFSETFROM:+0100
TZOFFSETTO:+0200
END:DAYLIGHT
END:VTIMEZONE
END:VCALENDAR
