BEGIN:VCALENDAR
VERSION:2.0
PRODID:-//Plone.org//NONSGML plone.app.event//EN
X-WR-TIMEZONE:Europe/Rome
BEGIN:VEVENT
SUMMARY:Il monastero di S. Silvestro di Nonantola fra politiche regie e at
 tivismo aristocratico: fisco e clientele in area emiliana nel IX secolo
DTSTART;TZID=Europe/Rome;VALUE=DATE-TIME:20170214T150000
DTEND;TZID=Europe/Rome;VALUE=DATE-TIME:20170214T170000
DTSTAMP;VALUE=DATE-TIME:20260423T000757Z
UID:80bb1941e7e148508c7e62fc228868e6@disci.unibo.it
CREATED;VALUE=DATE-TIME:20170213T074031Z
DESCRIPTION:Seminario di ricerca medievistica.
LAST-MODIFIED;VALUE=DATE-TIME:20210304T100247Z
URL:https://disci.unibo.it/it/eventi/il-monastero-di-s.-silvestro-di-nonan
 tola-fra-politiche-regie-e-attivismo-aristocratico-fisco-e-clientele-in-ar
 ea-emiliana-nel-ix-secolo
END:VEVENT
BEGIN:VTIMEZONE
TZID:Europe/Rome
X-LIC-LOCATION:Europe/Rome
BEGIN:STANDARD
DTSTART;VALUE=DATE-TIME:20161030T020000
TZNAME:CET
TZOFFSETFROM:+0200
TZOFFSETTO:+0100
END:STANDARD
END:VTIMEZONE
END:VCALENDAR
