BEGIN:VCALENDAR
VERSION:2.0
PRODID:-//Plone.org//NONSGML plone.app.event//EN
X-WR-TIMEZONE:Europe/Rome
BEGIN:VEVENT
SUMMARY:Il paradosso dello Stato nello Stato. Realtà e rappresentazioni d
 elle zone libere partigiane in Emilia Romagna
DTSTART;TZID=Europe/Rome;VALUE=DATE-TIME:20161206T153000
DTEND;TZID=Europe/Rome;VALUE=DATE-TIME:20161206T183000
DTSTAMP;VALUE=DATE-TIME:20260422T191937Z
UID:be95fe8bcdae43c79da691f9ebf3da1f@disci.unibo.it
CREATED;VALUE=DATE-TIME:20161201T085534Z
DESCRIPTION:Seminario.
LAST-MODIFIED;VALUE=DATE-TIME:20210301T150238Z
URL:https://disci.unibo.it/it/eventi/il-paradosso-dello-stato-nello-stato.
 -realta-e-rappresentazioni-delle-zone-libere-partigiane-in-emilia-romagna
END:VEVENT
BEGIN:VTIMEZONE
TZID:Europe/Rome
X-LIC-LOCATION:Europe/Rome
BEGIN:STANDARD
DTSTART;VALUE=DATE-TIME:20161030T020000
TZNAME:CET
TZOFFSETFROM:+0200
TZOFFSETTO:+0100
END:STANDARD
END:VTIMEZONE
END:VCALENDAR
