BEGIN:VCALENDAR
VERSION:2.0
PRODID:-//Plone.org//NONSGML plone.app.event//EN
X-WR-TIMEZONE:Europe/Rome
BEGIN:VEVENT
SUMMARY:Il progetto di archeologia dei paesaggi Bassa Romagna
DTSTART;TZID=Europe/Rome;VALUE=DATE-TIME:20170504T151500
DTEND;TZID=Europe/Rome;VALUE=DATE-TIME:20170504T170000
DTSTAMP;VALUE=DATE-TIME:20260425T162220Z
UID:895cb8de976b40c29788aaf0dc1cde12@disci.unibo.it
CREATED;VALUE=DATE-TIME:20170502T055355Z
DESCRIPTION:Seminario
LAST-MODIFIED;VALUE=DATE-TIME:20170502T061815Z
URL:https://disci.unibo.it/it/eventi/il-progetto-di-archeologia-dei-paesag
 gi-bassa-romagna
END:VEVENT
BEGIN:VTIMEZONE
TZID:Europe/Rome
X-LIC-LOCATION:Europe/Rome
BEGIN:DAYLIGHT
DTSTART;VALUE=DATE-TIME:20170326T030000
TZNAME:CEST
TZOFFSETFROM:+0100
TZOFFSETTO:+0200
END:DAYLIGHT
END:VTIMEZONE
END:VCALENDAR
