BEGIN:VCALENDAR
VERSION:2.0
PRODID:-//Plone.org//NONSGML plone.app.event//EN
X-WR-TIMEZONE:Europe/Rome
BEGIN:VEVENT
SUMMARY:Incontro con Aleida Guevara March
DTSTART;TZID=Europe/Rome;VALUE=DATE-TIME:20250523T163000
DTEND;TZID=Europe/Rome;VALUE=DATE-TIME:20250523T183000
DTSTAMP;VALUE=DATE-TIME:20260419T153527Z
UID:4ab22f4f9e044611b28c361076bf286f@disci.unibo.it
CREATED;VALUE=DATE-TIME:20250520T085921Z
DESCRIPTION:L’evento è organizzato in occasione della mostra “CHE GUE
 VARA tú y todos”\, allestita al Museo Civico Archeologico di Bologna e 
 visitabile fino al 30 giugno 2025.
LAST-MODIFIED;VALUE=DATE-TIME:20250520T091605Z
URL:https://disci.unibo.it/it/eventi/incontro-con-aleida-guevara-march
END:VEVENT
BEGIN:VTIMEZONE
TZID:Europe/Rome
X-LIC-LOCATION:Europe/Rome
BEGIN:DAYLIGHT
DTSTART;VALUE=DATE-TIME:20250330T030000
TZNAME:CEST
TZOFFSETFROM:+0100
TZOFFSETTO:+0200
END:DAYLIGHT
END:VTIMEZONE
END:VCALENDAR
