BEGIN:VCALENDAR
VERSION:2.0
PRODID:-//Plone.org//NONSGML plone.app.event//EN
X-WR-TIMEZONE:Europe/Rome
BEGIN:VEVENT
SUMMARY:La peinteur romaine d'après la documentation pompéienne: styles 
 et thèmes
DTSTART;TZID=Europe/Rome;VALUE=DATE-TIME:20241218T100000
DTEND;TZID=Europe/Rome;VALUE=DATE-TIME:20241218T120000
DTSTAMP;VALUE=DATE-TIME:20260419T221016Z
UID:d773346092024b17ba571c5558d05b8c@disci.unibo.it
CREATED;VALUE=DATE-TIME:20241213T090305Z
DESCRIPTION:Presentazione dei progetti di ricerca Alma Scavi (Pompei) pres
 so l'Insititut National du Patrimoine et Musée de Carthage
LAST-MODIFIED;VALUE=DATE-TIME:20241213T092345Z
URL:https://disci.unibo.it/it/eventi/insititut-national-du-patrimoine-et-m
 usee-de-carthage-presentazione-dei-progetti-di-ricerca-alma-scavi-pompei
END:VEVENT
BEGIN:VTIMEZONE
TZID:Europe/Rome
X-LIC-LOCATION:Europe/Rome
BEGIN:STANDARD
DTSTART;VALUE=DATE-TIME:20241027T020000
TZNAME:CET
TZOFFSETFROM:+0200
TZOFFSETTO:+0100
END:STANDARD
END:VTIMEZONE
END:VCALENDAR
