BEGIN:VCALENDAR
VERSION:2.0
PRODID:-//Plone.org//NONSGML plone.app.event//EN
X-WR-TIMEZONE:Europe/Rome
BEGIN:VEVENT
SUMMARY:Introduzione all'arte della valle del Nepal
DTSTART;TZID=Europe/Rome;VALUE=DATE-TIME:20150311T110000
DTEND;TZID=Europe/Rome;VALUE=DATE-TIME:20150318T130000
DTSTAMP;VALUE=DATE-TIME:20260420T213316Z
UID:558065a814154295abb5aaa38bd54237@disci.unibo.it
CREATED;VALUE=DATE-TIME:20150204T102025Z
DESCRIPTION:Seminario di arte asiatica.
LAST-MODIFIED;VALUE=DATE-TIME:20210302T153319Z
URL:https://disci.unibo.it/it/eventi/introduzione-allarte-della-valle-del-
 nepal
END:VEVENT
BEGIN:VTIMEZONE
TZID:Europe/Rome
X-LIC-LOCATION:Europe/Rome
BEGIN:STANDARD
DTSTART;VALUE=DATE-TIME:20141026T020000
TZNAME:CET
TZOFFSETFROM:+0200
TZOFFSETTO:+0100
END:STANDARD
END:VTIMEZONE
END:VCALENDAR
