BEGIN:VCALENDAR
VERSION:2.0
PRODID:-//Plone.org//NONSGML plone.app.event//EN
X-WR-TIMEZONE:Europe/Rome
BEGIN:VEVENT
SUMMARY:La centralità di Dio nella Riforma Protestante
DTSTART;TZID=Europe/Rome;VALUE=DATE-TIME:20170213T093000
DTEND;TZID=Europe/Rome;VALUE=DATE-TIME:20170217T140000
DTSTAMP;VALUE=DATE-TIME:20260422T221425Z
UID:7460f4c9a6c84192afab19f6167b7cf2@disci.unibo.it
CREATED;VALUE=DATE-TIME:20170127T084736Z
DESCRIPTION:Settimana intensiva 500° Riforma Protestante.
LAST-MODIFIED;VALUE=DATE-TIME:20170127T093648Z
URL:https://disci.unibo.it/it/eventi/la-centralita-di-dio-mella-riforma-pr
 otestante
END:VEVENT
BEGIN:VTIMEZONE
TZID:Europe/Rome
X-LIC-LOCATION:Europe/Rome
BEGIN:STANDARD
DTSTART;VALUE=DATE-TIME:20161030T020000
TZNAME:CET
TZOFFSETFROM:+0200
TZOFFSETTO:+0100
END:STANDARD
END:VTIMEZONE
END:VCALENDAR
