BEGIN:VCALENDAR
VERSION:2.0
PRODID:-//Plone.org//NONSGML plone.app.event//EN
X-WR-TIMEZONE:Europe/Rome
BEGIN:VEVENT
SUMMARY:La "Cronica" dell'Anonimo Romano
DTSTART;TZID=Europe/Rome;VALUE=DATE-TIME:20150423T151500
DTEND;TZID=Europe/Rome;VALUE=DATE-TIME:20150423T173000
DTSTAMP;VALUE=DATE-TIME:20260422T184109Z
UID:dd8111e25fba45c1999204b773a39cb2@disci.unibo.it
CREATED;VALUE=DATE-TIME:20150423T063625Z
DESCRIPTION:Seminario del Ciclo "In viaggio tra le fonti scritte medievali
 : i cronisti".
LAST-MODIFIED;VALUE=DATE-TIME:20150423T070225Z
URL:https://disci.unibo.it/it/eventi/la-cronica-dellanonimo-romano
END:VEVENT
BEGIN:VTIMEZONE
TZID:Europe/Rome
X-LIC-LOCATION:Europe/Rome
BEGIN:DAYLIGHT
DTSTART;VALUE=DATE-TIME:20150329T030000
TZNAME:CEST
TZOFFSETFROM:+0100
TZOFFSETTO:+0200
END:DAYLIGHT
END:VTIMEZONE
END:VCALENDAR
