BEGIN:VCALENDAR
VERSION:2.0
PRODID:-//Plone.org//NONSGML plone.app.event//EN
X-WR-TIMEZONE:Europe/Rome
BEGIN:VEVENT
SUMMARY:La gestione del patrimonio fiscale tra IX e XII secolo. Uno specch
 io delle trasformazioni economiche medievali?
DTSTART;TZID=Europe/Rome;VALUE=DATE-TIME:20220506T143000
DTEND;TZID=Europe/Rome;VALUE=DATE-TIME:20220507T130000
DTSTAMP;VALUE=DATE-TIME:20260422T123052Z
UID:3d1d3d8e624e43a6abfb56e3adf77fbe@disci.unibo.it
CREATED;VALUE=DATE-TIME:20220408T091717Z
DESCRIPTION:PRIN 2017: Università degli Studi di Torino\, Alma Mater Stud
 iorum - Università di Bologna\, Università di Pisa\, Università degli S
 tudi Roma Tre.
LAST-MODIFIED;VALUE=DATE-TIME:20220408T094553Z
URL:https://disci.unibo.it/it/eventi/la-gestione-del-patrimonio-fiscale-tr
 a-ix-e-xii-secolo-uno-specchio-delle-trasformazioni-economiche-medievali
END:VEVENT
BEGIN:VTIMEZONE
TZID:Europe/Rome
X-LIC-LOCATION:Europe/Rome
BEGIN:DAYLIGHT
DTSTART;VALUE=DATE-TIME:20220327T030000
TZNAME:CEST
TZOFFSETFROM:+0100
TZOFFSETTO:+0200
END:DAYLIGHT
END:VTIMEZONE
END:VCALENDAR
