BEGIN:VCALENDAR
VERSION:2.0
PRODID:-//Plone.org//NONSGML plone.app.event//EN
X-WR-TIMEZONE:Europe/Rome
BEGIN:VEVENT
SUMMARY:La "Historia Langobardorum" di Paolo Diacono
DTSTART;TZID=Europe/Rome;VALUE=DATE-TIME:20150212T151500
DTEND;TZID=Europe/Rome;VALUE=DATE-TIME:20150212T180000
DTSTAMP;VALUE=DATE-TIME:20260419T232921Z
UID:57fbd024a6964960ad20ff60a69271eb@disci.unibo.it
CREATED;VALUE=DATE-TIME:20150209T130313Z
DESCRIPTION:Seminario del ciclo: "In viaggio tra le fonti scritte medieval
 i: i cronisti".
LAST-MODIFIED;VALUE=DATE-TIME:20150209T131205Z
URL:https://disci.unibo.it/it/eventi/la-historia-langobardorum-di-paolo-di
 acono
END:VEVENT
BEGIN:VTIMEZONE
TZID:Europe/Rome
X-LIC-LOCATION:Europe/Rome
BEGIN:STANDARD
DTSTART;VALUE=DATE-TIME:20141026T020000
TZNAME:CET
TZOFFSETFROM:+0200
TZOFFSETTO:+0100
END:STANDARD
END:VTIMEZONE
END:VCALENDAR
