BEGIN:VCALENDAR
VERSION:2.0
PRODID:-//Plone.org//NONSGML plone.app.event//EN
X-WR-TIMEZONE:Europe/Rome
BEGIN:VEVENT
SUMMARY:La melodia del verso persiano. Relazione tra musicalità e versifi
 cazione nella poesia classica e moderna dell'Iran
DTSTART;TZID=Europe/Rome;VALUE=DATE-TIME:20161130T100000
DTEND;TZID=Europe/Rome;VALUE=DATE-TIME:20161201T130000
DTSTAMP;VALUE=DATE-TIME:20260422T143445Z
UID:c4521604afc840eead81e85b6797fd35@disci.unibo.it
CREATED;VALUE=DATE-TIME:20161121T082551Z
DESCRIPTION:Seminario.
LAST-MODIFIED;VALUE=DATE-TIME:20161121T082827Z
URL:https://disci.unibo.it/it/eventi/la-melodia-del-verso-persiano.-relazi
 one-tra-musicalita-e-versificazione-nella-poesia-classica-e-moderna-dellir
 an
END:VEVENT
BEGIN:VTIMEZONE
TZID:Europe/Rome
X-LIC-LOCATION:Europe/Rome
BEGIN:STANDARD
DTSTART;VALUE=DATE-TIME:20161030T020000
TZNAME:CET
TZOFFSETFROM:+0200
TZOFFSETTO:+0100
END:STANDARD
END:VTIMEZONE
END:VCALENDAR
