BEGIN:VCALENDAR
VERSION:2.0
PRODID:-//Plone.org//NONSGML plone.app.event//EN
X-WR-TIMEZONE:Europe/Rome
BEGIN:VEVENT
SUMMARY:La propaganda di Alessandro nelle pagine di Arriano
DTSTART;TZID=Europe/Rome;VALUE=DATE-TIME:20190925T093000
DTEND;TZID=Europe/Rome;VALUE=DATE-TIME:20190925T113000
DTSTAMP;VALUE=DATE-TIME:20260421T124140Z
UID:f142170473c64b55964486551c9dce99@disci.unibo.it
CREATED;VALUE=DATE-TIME:20190909T053152Z
DESCRIPTION:Conferenza
LAST-MODIFIED;VALUE=DATE-TIME:20190909T062326Z
URL:https://disci.unibo.it/it/eventi/la-propaganda-di-alessandro-nelle-pag
 ine-di-arriano
END:VEVENT
BEGIN:VTIMEZONE
TZID:Europe/Rome
X-LIC-LOCATION:Europe/Rome
BEGIN:DAYLIGHT
DTSTART;VALUE=DATE-TIME:20190331T030000
TZNAME:CEST
TZOFFSETFROM:+0100
TZOFFSETTO:+0200
END:DAYLIGHT
END:VTIMEZONE
END:VCALENDAR
