BEGIN:VCALENDAR
VERSION:2.0
PRODID:-//Plone.org//NONSGML plone.app.event//EN
X-WR-TIMEZONE:Europe/Rome
BEGIN:VEVENT
SUMMARY:La Resistenza\, il fascismo\, la memoria. Bologna 1943-1945
DTSTART;TZID=Europe/Rome;VALUE=DATE-TIME:20170502T163000
DTEND;TZID=Europe/Rome;VALUE=DATE-TIME:20170502T183000
DTSTAMP;VALUE=DATE-TIME:20260422T151805Z
UID:e5bbffbced0e4fe4942d1f884099d66b@disci.unibo.it
CREATED;VALUE=DATE-TIME:20170428T061558Z
DESCRIPTION:Presentazione del volume.
LAST-MODIFIED;VALUE=DATE-TIME:20170428T064416Z
URL:https://disci.unibo.it/it/eventi/la-resistenza-il-fascismo-la-memoria.
 -bologna-1943-1945
END:VEVENT
BEGIN:VTIMEZONE
TZID:Europe/Rome
X-LIC-LOCATION:Europe/Rome
BEGIN:DAYLIGHT
DTSTART;VALUE=DATE-TIME:20170326T030000
TZNAME:CEST
TZOFFSETFROM:+0100
TZOFFSETTO:+0200
END:DAYLIGHT
END:VTIMEZONE
END:VCALENDAR
