BEGIN:VCALENDAR
VERSION:2.0
PRODID:-//Plone.org//NONSGML plone.app.event//EN
X-WR-TIMEZONE:Europe/Rome
BEGIN:VEVENT
SUMMARY:La teologia politica papale nella prima età moderna\, Franco Mott
 a (Università degli Studi di Torino)
DTSTART;TZID=Europe/Rome;VALUE=DATE-TIME:20250519T150000
DTEND;TZID=Europe/Rome;VALUE=DATE-TIME:20250519T170000
DTSTAMP;VALUE=DATE-TIME:20260419T145612Z
UID:d10f336c49944ea1985ba2f89c31ebb5@disci.unibo.it
CREATED;VALUE=DATE-TIME:20250509T082256Z
DESCRIPTION:Ciclo di seminari a cura dell’unità di ricerca di Bologna\,
  in collaborazione con il CeSR – Centro di Scienze delle Religioni.
LAST-MODIFIED;VALUE=DATE-TIME:20250509T082432Z
URL:https://disci.unibo.it/it/eventi/la-teologia-politica-papale-nella-pri
 ma-eta-moderna-franco-motta-universita-degli-studi-di-torino
END:VEVENT
BEGIN:VTIMEZONE
TZID:Europe/Rome
X-LIC-LOCATION:Europe/Rome
BEGIN:DAYLIGHT
DTSTART;VALUE=DATE-TIME:20250330T030000
TZNAME:CEST
TZOFFSETFROM:+0100
TZOFFSETTO:+0200
END:DAYLIGHT
END:VTIMEZONE
END:VCALENDAR
